BEGIN:VCALENDAR
VERSION:2.0
PRODID:https://www.kufer.de/kuferweb / DE
METHOD:PUBLISH
CALSCALE:GREGORIAN
X-WR-TIMEZONE:Europe/Berlin
BEGIN:VTIMEZONE
TZID:Europe/Berlin
X-LIC-LOCATION:Europe/Berlin
BEGIN:DAYLIGHT
TZOFFSETFROM:+0100
TZOFFSETTO:+0200
TZNAME:CEST
DTSTART:19700329T020000
RRULE:FREQ=YEARLY;INTERVAL=1;BYDAY=-1SU;BYMONTH=3
END:DAYLIGHT
BEGIN:STANDARD
TZOFFSETFROM:+0200
TZOFFSETTO:+0100
TZNAME:CET
DTSTART:19701025T030000
RRULE:FREQ=YEARLY;INTERVAL=1;BYDAY=-1SU;BYMONTH=10
END:STANDARD
END:VTIMEZONE
BEGIN:VEVENT
DTSTAMP:20260422T121748
DTSTART;TZID=Europe/Berlin:20260706T131500
DTEND;TZID=Europe/Berlin:20260706T171500
UID:26-527TC11-20260706T131500@IKAMEDZÜRICH
SUMMARY:Gesprächsführung - SG 103 (26-527TC11) 
LOCATION:Virtueller Raum - Ikamed
END:VEVENT
BEGIN:VEVENT
DTSTAMP:20260422T121748
DTSTART;TZID=Europe/Berlin:20260928T091500
DTEND;TZID=Europe/Berlin:20260928T171500
UID:26-527TC11-20260928T091500@IKAMEDZÜRICH
SUMMARY:Gesprächsführung - SG 103 (26-527TC11) 
LOCATION:Virtueller Raum - Ikamed
END:VEVENT
BEGIN:VEVENT
DTSTAMP:20260422T121748
DTSTART;TZID=Europe/Berlin:20261102T091500
DTEND;TZID=Europe/Berlin:20261102T171500
UID:26-527TC11-20261102T091500@IKAMEDZÜRICH
SUMMARY:Gesprächsführung - SG 103 (26-527TC11) 
LOCATION:Virtueller Raum - Ikamed
END:VEVENT
BEGIN:VEVENT
DTSTAMP:20260422T121748
DTSTART;TZID=Europe/Berlin:20261130T091500
DTEND;TZID=Europe/Berlin:20261130T171500
UID:26-527TC11-20261130T091500@IKAMEDZÜRICH
SUMMARY:Gesprächsführung - SG 103 (26-527TC11) 
LOCATION:Virtueller Raum - Ikamed
END:VEVENT
END:VCALENDAR